OziExplorer Map Data File Version 2.2
AYN AL GAZAL______2224-F35WN.PNG
F:\mapas\africa\Africa Este (rusos) 1-500.000\AYN AL GAZAL______2224-F35WN.PNG
1 ,Map Code,
Pulkovo 1942 (1),, 0.0000, 0.0000,WGS 84
Reserved 1
Reserved 2
Magnetic Variation,,,E
Map Projection,Latitude/Longitude,PolyCal,Yes,AutoCalOnly,No,BSBUseWPX,No
Point01,xy, 81, 67,in, deg, 22, 0.0000,N, 24, 0.0000,E, grid, , , ,
Point02,xy, 2162, 72,in, deg, 22, 0.0000,N, 25, 30.0000,E, grid, , , ,
Point03,xy, 4239, 60,in, deg, 22, 0.0000,N, 27, 0.0000,E, grid, , , ,
Point04,xy, 72, 1547,in, deg, 21, 0.0000,N, 24, 0.0000,E, grid, , , ,
Point05,xy, 2167, 1551,in, deg, 21, 0.0000,N, 25, 30.0000,E, grid, , , ,
Point06,xy, 4258, 1537,in, deg, 21, 0.0000,N, 27, 0.0000,E, grid, , , ,
Point07,xy, 67, 3032,in, deg, 20, 0.0000,N, 24, 0.0000,E, grid, , , ,
Point08,xy, 2173, 3032,in, deg, 20, 0.0000,N, 25, 30.0000,E, grid, , , ,
Point09,xy, 4277, 3018,in, deg, 20, 0.0000,N, 27, 0.0000,E, grid, , , ,
Point10,xy, , ,in, deg, , ,, , ,, grid, , , ,
Point11,xy, , ,in, deg, , ,, , ,, grid, , , ,
Point12,xy, , ,in, deg, , ,, , ,, grid, , , ,
Point13,xy, , ,in, deg, , ,, , ,, grid, , , ,
Point14,xy, , ,in, deg, , ,, , ,, grid, , , ,
Point15,xy, , ,in, deg, , ,, , ,, grid, , , ,
Point16,xy, , ,in, deg, , ,, , ,, grid, , , ,
Point17,xy, , ,in, deg, , ,, , ,, grid, , , ,
Point18,xy, , ,in, deg, , ,, , ,, grid, , , ,
Point19,xy, , ,in, deg, , ,, , ,, grid, , , ,
Point20,xy, , ,in, deg, , ,, , ,, grid, , , ,
Point21,xy, , ,in, deg, , ,, , ,, grid, , , ,
Point22,xy, , ,in, deg, , ,, , ,, grid, , , ,
Point23,xy, , ,in, deg, , ,, , ,, grid, , , ,
Point24,xy, , ,in, deg, , ,, , ,, grid, , , ,
Point25,xy, , ,in, deg, , ,, , ,, grid, , , ,
Point26,xy, , ,in, deg, , ,, , ,, grid, , , ,
Point27,xy, , ,in, deg, , ,, , ,, grid, , , ,
Point28,xy, , ,in, deg, , ,, , ,, grid, , , ,
Point29,xy, , ,in, deg, , ,, , ,, grid, , , ,
Point30,xy, , ,in, deg, , ,, , ,, grid, , , ,
Projection Setup,,,,,,,,,,
Map Feature = MF ; Map Comment = MC These follow if they exist
Track File = TF These follow if they exist
Moving Map Parameters = MM? These follow if they exist
MM0,Yes
MMPNUM,4
MMPXY,1,0,0
MMPXY,2,4742,0
MMPXY,3,4788,3091
MMPXY,4,0,3111
MMPLL,1, 23.941519, 22.044984
MMPLL,2, 27.363735, 22.037248
MMPLL,3, 27.363737, 19.946411
MMPLL,4, 23.952960, 19.946318
MM1B,74.271253
LL Grid Setup
LLGRID,No,No Grid,Yes,255,16711680,0,No Labels,0,16777215,7,1,Yes,x
Other Grid Setup
GRGRID,No,No Grid,Yes,255,16711680,No Labels,0,16777215,8,1,Yes,No,No,x
MOP,Map Open Position,0,0
IWH,Map Image Width/Height,2500,1250
