OziExplorer Map Data File Version 2.2
ATI_______________1418-D34WN.PNG
F:\mapas\africa\Africa Este (rusos) 1-500.000\ATI_______________1418-D34WN.PNG
1 ,Map Code,
Pulkovo 1942 (1),, 0.0000, 0.0000,WGS 84
Reserved 1
Reserved 2
Magnetic Variation,,,E
Map Projection,Latitude/Longitude,PolyCal,Yes,AutoCalOnly,No,BSBUseWPX,No
Point01,xy, 83, 68,in, deg, 14, 0.0000,N, 18, 0.0000,E, grid, , , ,
Point02,xy, 2254, 75,in, deg, 14, 0.0000,N, 19, 30.0000,E, grid, , , ,
Point03,xy, 4421, 71,in, deg, 14, 0.0000,N, 21, 0.0000,E, grid, , , ,
Point04,xy, 78, 1548,in, deg, 13, 0.0000,N, 18, 0.0000,E, grid, , , ,
Point05,xy, 2255, 1556,in, deg, 13, 0.0000,N, 19, 30.0000,E, grid, , , ,
Point06,xy, 4431, 1552,in, deg, 13, 0.0000,N, 21, 0.0000,E, grid, , , ,
Point07,xy, 72, 3029,in, deg, 12, 0.0000,N, 18, 0.0000,E, grid, , , ,
Point08,xy, 2257, 3035,in, deg, 12, 0.0000,N, 19, 30.0000,E, grid, , , ,
Point09,xy, 4442, 3029,in, deg, 12, 0.0000,N, 21, 0.0000,E, grid, , , ,
Point10,xy, , ,in, deg, , ,, , ,, grid, , , ,
Point11,xy, , ,in, deg, , ,, , ,, grid, , , ,
Point12,xy, , ,in, deg, , ,, , ,, grid, , , ,
Point13,xy, , ,in, deg, , ,, , ,, grid, , , ,
Point14,xy, , ,in, deg, , ,, , ,, grid, , , ,
Point15,xy, , ,in, deg, , ,, , ,, grid, , , ,
Point16,xy, , ,in, deg, , ,, , ,, grid, , , ,
Point17,xy, , ,in, deg, , ,, , ,, grid, , , ,
Point18,xy, , ,in, deg, , ,, , ,, grid, , , ,
Point19,xy, , ,in, deg, , ,, , ,, grid, , , ,
Point20,xy, , ,in, deg, , ,, , ,, grid, , , ,
Point21,xy, , ,in, deg, , ,, , ,, grid, , , ,
Point22,xy, , ,in, deg, , ,, , ,, grid, , , ,
Point23,xy, , ,in, deg, , ,, , ,, grid, , , ,
Point24,xy, , ,in, deg, , ,, , ,, grid, , , ,
Point25,xy, , ,in, deg, , ,, , ,, grid, , , ,
Point26,xy, , ,in, deg, , ,, , ,, grid, , , ,
Point27,xy, , ,in, deg, , ,, , ,, grid, , , ,
Point28,xy, , ,in, deg, , ,, , ,, grid, , , ,
Point29,xy, , ,in, deg, , ,, , ,, grid, , , ,
Point30,xy, , ,in, deg, , ,, , ,, grid, , , ,
Projection Setup,,,,,,,,,,
Map Feature = MF ; Map Comment = MC These follow if they exist
Track File = TF These follow if they exist
Moving Map Parameters = MM? These follow if they exist
MM0,Yes
MMPNUM,4
MMPXY,1,0,0
MMPXY,2,4930,0
MMPXY,3,4956,3101
MMPXY,4,0,3103
MMPLL,1, 17.942055, 14.045158
MMPLL,2, 21.352557, 14.046394
MMPLL,3, 21.353064, 11.949567
MMPLL,4, 17.950882, 11.949447
MM1B,74.539237
LL Grid Setup
LLGRID,No,No Grid,Yes,255,16711680,0,No Labels,0,16777215,7,1,Yes,x
Other Grid Setup
GRGRID,No,No Grid,Yes,255,16711680,No Labels,0,16777215,8,1,Yes,No,No,x
MOP,Map Open Position,0,0
IWH,Map Image Width/Height,2500,1250
