OziExplorer Map Data File Version 2.2
ATAR______________2215-F28GN.PNG
F:\mapas\africa\Africa Oeste (rusos) 1-500.000\ATAR______________2215-F28GN.PNG
1 ,Map Code,
Pulkovo 1942 (1),, 0.0000, 0.0000,WGS 84
Reserved 1
Reserved 2
Magnetic Variation,,,E
Map Projection,Latitude/Longitude,PolyCal,Yes,AutoCalOnly,No,BSBUseWPX,No
Point01,xy, 107, 67,in, deg, 22, 0.0000,N, 15, 0.0000,W, grid, , , ,
Point02,xy, 2179, 86,in, deg, 22, 0.0000,N, 13, 30.0000,W, grid, , , ,
Point03,xy, 4254, 78,in, deg, 22, 0.0000,N, 12, 0.0000,W, grid, , , ,
Point04,xy, 91, 1546,in, deg, 21, 0.0000,N, 15, 0.0000,W, grid, , , ,
Point05,xy, 2179, 1564,in, deg, 21, 0.0000,N, 13, 30.0000,W, grid, , , ,
Point06,xy, 4269, 1560,in, deg, 21, 0.0000,N, 12, 0.0000,W, grid, , , ,
Point07,xy, 76, 3026,in, deg, 20, 0.0000,N, 15, 0.0000,W, grid, , , ,
Point08,xy, 2179, 3044,in, deg, 20, 0.0000,N, 13, 30.0000,W, grid, , , ,
Point09,xy, 4282, 3040,in, deg, 20, 0.0000,N, 12, 0.0000,W, grid, , , ,
Point10,xy, , ,in, deg, , ,, , ,, grid, , , ,
Point11,xy, , ,in, deg, , ,, , ,, grid, , , ,
Point12,xy, , ,in, deg, , ,, , ,, grid, , , ,
Point13,xy, , ,in, deg, , ,, , ,, grid, , , ,
Point14,xy, , ,in, deg, , ,, , ,, grid, , , ,
Point15,xy, , ,in, deg, , ,, , ,, grid, , , ,
Point16,xy, , ,in, deg, , ,, , ,, grid, , , ,
Point17,xy, , ,in, deg, , ,, , ,, grid, , , ,
Point18,xy, , ,in, deg, , ,, , ,, grid, , , ,
Point19,xy, , ,in, deg, , ,, , ,, grid, , , ,
Point20,xy, , ,in, deg, , ,, , ,, grid, , , ,
Point21,xy, , ,in, deg, , ,, , ,, grid, , , ,
Point22,xy, , ,in, deg, , ,, , ,, grid, , , ,
Point23,xy, , ,in, deg, , ,, , ,, grid, , , ,
Point24,xy, , ,in, deg, , ,, , ,, grid, , , ,
Point25,xy, , ,in, deg, , ,, , ,, grid, , , ,
Point26,xy, , ,in, deg, , ,, , ,, grid, , , ,
Point27,xy, , ,in, deg, , ,, , ,, grid, , , ,
Point28,xy, , ,in, deg, , ,, , ,, grid, , , ,
Point29,xy, , ,in, deg, , ,, , ,, grid, , , ,
Point30,xy, , ,in, deg, , ,, , ,, grid, , , ,
Projection Setup,,,,,,,,,,
Map Feature = MF ; Map Comment = MC These follow if they exist
Track File = TF These follow if they exist
Moving Map Parameters = MM? These follow if they exist
MM0,Yes
MMPNUM,4
MMPXY,1,0,0
MMPXY,2,4777,1
MMPXY,3,4814,3118
MMPXY,4,0,3107
MMPLL,1, -15.077623, 22.044466
MMPLL,2, -11.621414, 22.048992
MMPLL,3, -11.622004, 19.944018
MMPLL,4, -15.053623, 19.944134
MM1B,74.650842
LL Grid Setup
LLGRID,No,No Grid,Yes,255,16711680,0,No Labels,0,16777215,7,1,Yes,x
Other Grid Setup
GRGRID,No,No Grid,Yes,255,16711680,No Labels,0,16777215,8,1,Yes,No,No,x
MOP,Map Open Position,0,0
IWH,Map Image Width/Height,100,100
