OziExplorer Map Data File Version 2.2
ARUSHA____________0236-A37WS.PNG
F:\mapas\africa\Africa Este (rusos) 1-500.000\ARUSHA____________0236-A37WS.PNG
1 ,Map Code,
Pulkovo 1942 (1),, 0.0000, 0.0000,WGS 84
Reserved 1
Reserved 2
Magnetic Variation,,,E
Map Projection,Latitude/Longitude,PolyCal,Yes,AutoCalOnly,No,BSBUseWPX,No
Point01,xy, 74, 68,in, deg, 2, 0.0000,S, 36, 0.0000,E, grid, , , ,
Point02,xy, 2317, 66,in, deg, 2, 0.0000,S, 37, 30.0000,E, grid, , , ,
Point03,xy, 4559, 66,in, deg, 2, 0.0000,S, 39, 0.0000,E, grid, , , ,
Point04,xy, 76, 1548,in, deg, 3, 0.0000,S, 36, 0.0000,E, grid, , , ,
Point05,xy, 2313, 1544,in, deg, 3, 0.0000,S, 37, 30.0000,E, grid, , , ,
Point06,xy, 4552, 1543,in, deg, 3, 0.0000,S, 39, 0.0000,E, grid, , , ,
Point07,xy, 73, 3025,in, deg, 4, 0.0000,S, 36, 0.0000,E, grid, , , ,
Point08,xy, 2312, 3019,in, deg, 4, 0.0000,S, 37, 30.0000,E, grid, , , ,
Point09,xy, 4544, 3021,in, deg, 4, 0.0000,S, 39, 0.0000,E, grid, , , ,
Point10,xy, , ,in, deg, , ,, , ,, grid, , , ,
Point11,xy, , ,in, deg, , ,, , ,, grid, , , ,
Point12,xy, , ,in, deg, , ,, , ,, grid, , , ,
Point13,xy, , ,in, deg, , ,, , ,, grid, , , ,
Point14,xy, , ,in, deg, , ,, , ,, grid, , , ,
Point15,xy, , ,in, deg, , ,, , ,, grid, , , ,
Point16,xy, , ,in, deg, , ,, , ,, grid, , , ,
Point17,xy, , ,in, deg, , ,, , ,, grid, , , ,
Point18,xy, , ,in, deg, , ,, , ,, grid, , , ,
Point19,xy, , ,in, deg, , ,, , ,, grid, , , ,
Point20,xy, , ,in, deg, , ,, , ,, grid, , , ,
Point21,xy, , ,in, deg, , ,, , ,, grid, , , ,
Point22,xy, , ,in, deg, , ,, , ,, grid, , , ,
Point23,xy, , ,in, deg, , ,, , ,, grid, , , ,
Point24,xy, , ,in, deg, , ,, , ,, grid, , , ,
Point25,xy, , ,in, deg, , ,, , ,, grid, , , ,
Point26,xy, , ,in, deg, , ,, , ,, grid, , , ,
Point27,xy, , ,in, deg, , ,, , ,, grid, , , ,
Point28,xy, , ,in, deg, , ,, , ,, grid, , , ,
Point29,xy, , ,in, deg, , ,, , ,, grid, , , ,
Point30,xy, , ,in, deg, , ,, , ,, grid, , , ,
Projection Setup,,,,,,,,,,
Map Feature = MF ; Map Comment = MC These follow if they exist
Track File = TF These follow if they exist
Moving Map Parameters = MM? These follow if they exist
MM0,Yes
MMPNUM,4
MMPXY,1,0,0
MMPXY,2,5174,0
MMPXY,3,5157,3085
MMPXY,4,0,3089
MMPLL,1, 35.950463, -1.953429
MMPLL,2, 39.411974, -1.954657
MMPLL,3, 39.411725, -4.043543
MMPLL,4, 35.950299, -4.043388
MM1B,74.225462
LL Grid Setup
LLGRID,No,No Grid,Yes,255,16711680,0,No Labels,0,16777215,7,1,Yes,x
Other Grid Setup
GRGRID,No,No Grid,Yes,255,16711680,No Labels,0,16777215,8,1,Yes,No,No,x
MOP,Map Open Position,0,0
IWH,Map Image Width/Height,2500,1250
