OziExplorer Map Data File Version 2.2
ARATANE___________2009-E29BN.PNG
F:\mapas\africa\Africa Oeste (rusos) 1-500.000\ARATANE___________2009-E29BN.PNG
1 ,Map Code,
Pulkovo 1942 (1),, 0.0000, 0.0000,WGS 84
Reserved 1
Reserved 2
Magnetic Variation,,,E
Map Projection,Latitude/Longitude,PolyCal,Yes,AutoCalOnly,No,BSBUseWPX,No
Point01,xy, 93, 68,in, deg, 20, 0.0000,N, 9, 0.0000,W, grid, , , ,
Point02,xy, 2200, 82,in, deg, 20, 0.0000,N, 7, 30.0000,W, grid, , , ,
Point03,xy, 4307, 80,in, deg, 20, 0.0000,N, 6, 0.0000,W, grid, , , ,
Point04,xy, 78, 1552,in, deg, 19, 0.0000,N, 9, 0.0000,W, grid, , , ,
Point05,xy, 2199, 1564,in, deg, 19, 0.0000,N, 7, 30.0000,W, grid, , , ,
Point06,xy, 4319, 1562,in, deg, 19, 0.0000,N, 6, 0.0000,W, grid, , , ,
Point07,xy, 67, 3030,in, deg, 18, 0.0000,N, 9, 0.0000,W, grid, , , ,
Point08,xy, 2196, 3046,in, deg, 18, 0.0000,N, 7, 30.0000,W, grid, , , ,
Point09,xy, 4330, 3045,in, deg, 18, 0.0000,N, 6, 0.0000,W, grid, , , ,
Point10,xy, , ,in, deg, , ,, , ,, grid, , , ,
Point11,xy, , ,in, deg, , ,, , ,, grid, , , ,
Point12,xy, , ,in, deg, , ,, , ,, grid, , , ,
Point13,xy, , ,in, deg, , ,, , ,, grid, , , ,
Point14,xy, , ,in, deg, , ,, , ,, grid, , , ,
Point15,xy, , ,in, deg, , ,, , ,, grid, , , ,
Point16,xy, , ,in, deg, , ,, , ,, grid, , , ,
Point17,xy, , ,in, deg, , ,, , ,, grid, , , ,
Point18,xy, , ,in, deg, , ,, , ,, grid, , , ,
Point19,xy, , ,in, deg, , ,, , ,, grid, , , ,
Point20,xy, , ,in, deg, , ,, , ,, grid, , , ,
Point21,xy, , ,in, deg, , ,, , ,, grid, , , ,
Point22,xy, , ,in, deg, , ,, , ,, grid, , , ,
Point23,xy, , ,in, deg, , ,, , ,, grid, , , ,
Point24,xy, , ,in, deg, , ,, , ,, grid, , , ,
Point25,xy, , ,in, deg, , ,, , ,, grid, , , ,
Point26,xy, , ,in, deg, , ,, , ,, grid, , , ,
Point27,xy, , ,in, deg, , ,, , ,, grid, , , ,
Point28,xy, , ,in, deg, , ,, , ,, grid, , , ,
Point29,xy, , ,in, deg, , ,, , ,, grid, , , ,
Point30,xy, , ,in, deg, , ,, , ,, grid, , , ,
Projection Setup,,,,,,,,,,
Map Feature = MF ; Map Comment = MC These follow if they exist
Track File = TF These follow if they exist
Moving Map Parameters = MM? These follow if they exist
MM0,Yes
MMPNUM,4
MMPXY,1,0,0
MMPXY,2,4801,0
MMPXY,3,4831,3139
MMPXY,4,0,3126
MMPLL,1, -9.066564, 20.045650
MMPLL,2, -5.648588, 20.051629
MMPLL,3, -5.648267, 17.934611
MMPLL,4, -9.045833, 17.935179
MM1B,74.422496
LL Grid Setup
LLGRID,No,No Grid,Yes,255,16711680,0,No Labels,0,16777215,7,1,Yes,x
Other Grid Setup
GRGRID,No,No Grid,Yes,255,16711680,No Labels,0,16777215,8,1,Yes,No,No,x
MOP,Map Open Position,0,0
IWH,Map Image Width/Height,100,100
