OziExplorer Map Data File Version 2.2
ARAK______________2603-G31GN.PNG
F:\mapas\africa\Africa Oeste (rusos) 1-500.000\ARAK______________2603-G31GN.PNG
1 ,Map Code,
Pulkovo 1942 (1),, 0.0000, 0.0000,WGS 84
Reserved 1
Reserved 2
Magnetic Variation,,,E
Map Projection,Latitude/Longitude,PolyCal,Yes,AutoCalOnly,No,BSBUseWPX,No
Point01,xy, 93, 66,in, deg, 26, 0.0000,N, 3, 0.0000,E, grid, , , ,
Point02,xy, 2104, 80,in, deg, 26, 0.0000,N, 4, 30.0000,E, grid, , , ,
Point03,xy, 4116, 72,in, deg, 26, 0.0000,N, 6, 0.0000,E, grid, , , ,
Point04,xy, 79, 1546,in, deg, 25, 0.0000,N, 3, 0.0000,E, grid, , , ,
Point05,xy, 2106, 1562,in, deg, 25, 0.0000,N, 4, 30.0000,E, grid, , , ,
Point06,xy, 4134, 1558,in, deg, 25, 0.0000,N, 6, 0.0000,E, grid, , , ,
Point07,xy, 65, 3025,in, deg, 24, 0.0000,N, 3, 0.0000,E, grid, , , ,
Point08,xy, 2106, 3042,in, deg, 24, 0.0000,N, 4, 30.0000,E, grid, , , ,
Point09,xy, 4148, 3040,in, deg, 24, 0.0000,N, 6, 0.0000,E, grid, , , ,
Point10,xy, , ,in, deg, , ,, , ,, grid, , , ,
Point11,xy, , ,in, deg, , ,, , ,, grid, , , ,
Point12,xy, , ,in, deg, , ,, , ,, grid, , , ,
Point13,xy, , ,in, deg, , ,, , ,, grid, , , ,
Point14,xy, , ,in, deg, , ,, , ,, grid, , , ,
Point15,xy, , ,in, deg, , ,, , ,, grid, , , ,
Point16,xy, , ,in, deg, , ,, , ,, grid, , , ,
Point17,xy, , ,in, deg, , ,, , ,, grid, , , ,
Point18,xy, , ,in, deg, , ,, , ,, grid, , , ,
Point19,xy, , ,in, deg, , ,, , ,, grid, , , ,
Point20,xy, , ,in, deg, , ,, , ,, grid, , , ,
Point21,xy, , ,in, deg, , ,, , ,, grid, , , ,
Point22,xy, , ,in, deg, , ,, , ,, grid, , , ,
Point23,xy, , ,in, deg, , ,, , ,, grid, , , ,
Point24,xy, , ,in, deg, , ,, , ,, grid, , , ,
Point25,xy, , ,in, deg, , ,, , ,, grid, , , ,
Point26,xy, , ,in, deg, , ,, , ,, grid, , , ,
Point27,xy, , ,in, deg, , ,, , ,, grid, , , ,
Point28,xy, , ,in, deg, , ,, , ,, grid, , , ,
Point29,xy, , ,in, deg, , ,, , ,, grid, , , ,
Point30,xy, , ,in, deg, , ,, , ,, grid, , , ,
Projection Setup,,,,,,,,,,
Map Feature = MF ; Map Comment = MC These follow if they exist
Track File = TF These follow if they exist
Moving Map Parameters = MM? These follow if they exist
MM0,Yes
MMPNUM,4
MMPXY,1,0,0
MMPXY,2,4592,0
MMPXY,3,4633,3128
MMPXY,4,0,3114
MMPLL,1, 2.930460, 26.043815
MMPLL,2, 6.355190, 26.045681
MMPLL,3, 6.355065, 23.938240
MMPLL,4, 2.953213, 23.938814
MM1B,74.592409
LL Grid Setup
LLGRID,No,No Grid,Yes,255,16711680,0,No Labels,0,16777215,7,1,Yes,x
Other Grid Setup
GRGRID,No,No Grid,Yes,255,16711680,No Labels,0,16777215,8,1,Yes,No,No,x
MOP,Map Open Position,0,0
IWH,Map Image Width/Height,100,100
