OziExplorer Map Data File Version 2.2
ANSONGO___________1600-D31AN.PNG
F:\mapas\africa\Africa Oeste (rusos) 1-500.000\ANSONGO___________1600-D31AN.PNG
1 ,Map Code,
Pulkovo 1942 (1),, 0.0000, 0.0000,WGS 84
Reserved 1
Reserved 2
Magnetic Variation,,,E
Map Projection,Latitude/Longitude,PolyCal,Yes,AutoCalOnly,No,BSBUseWPX,No
Point01,xy, 84, 63,in, deg, 16, 0.0000,N, 0, 0.0000,E, grid, , , ,
Point02,xy, 2235, 78,in, deg, 16, 0.0000,N, 1, 30.0000,E, grid, , , ,
Point03,xy, 4384, 78,in, deg, 16, 0.0000,N, 3, 0.0000,E, grid, , , ,
Point04,xy, 73, 1546,in, deg, 15, 0.0000,N, 0, 0.0000,E, grid, , , ,
Point05,xy, 2233, 1558,in, deg, 15, 0.0000,N, 1, 30.0000,E, grid, , , ,
Point06,xy, 4393, 1556,in, deg, 15, 0.0000,N, 3, 0.0000,E, grid, , , ,
Point07,xy, 64, 3027,in, deg, 14, 0.0000,N, 0, 0.0000,E, grid, , , ,
Point08,xy, 2234, 3040,in, deg, 14, 0.0000,N, 1, 30.0000,E, grid, , , ,
Point09,xy, 4402, 3034,in, deg, 14, 0.0000,N, 3, 0.0000,E, grid, , , ,
Point10,xy, , ,in, deg, , ,, , ,, grid, , , ,
Point11,xy, , ,in, deg, , ,, , ,, grid, , , ,
Point12,xy, , ,in, deg, , ,, , ,, grid, , , ,
Point13,xy, , ,in, deg, , ,, , ,, grid, , , ,
Point14,xy, , ,in, deg, , ,, , ,, grid, , , ,
Point15,xy, , ,in, deg, , ,, , ,, grid, , , ,
Point16,xy, , ,in, deg, , ,, , ,, grid, , , ,
Point17,xy, , ,in, deg, , ,, , ,, grid, , , ,
Point18,xy, , ,in, deg, , ,, , ,, grid, , , ,
Point19,xy, , ,in, deg, , ,, , ,, grid, , , ,
Point20,xy, , ,in, deg, , ,, , ,, grid, , , ,
Point21,xy, , ,in, deg, , ,, , ,, grid, , , ,
Point22,xy, , ,in, deg, , ,, , ,, grid, , , ,
Point23,xy, , ,in, deg, , ,, , ,, grid, , , ,
Point24,xy, , ,in, deg, , ,, , ,, grid, , , ,
Point25,xy, , ,in, deg, , ,, , ,, grid, , , ,
Point26,xy, , ,in, deg, , ,, , ,, grid, , , ,
Point27,xy, , ,in, deg, , ,, , ,, grid, , , ,
Point28,xy, , ,in, deg, , ,, , ,, grid, , , ,
Point29,xy, , ,in, deg, , ,, , ,, grid, , , ,
Point30,xy, , ,in, deg, , ,, , ,, grid, , , ,
Projection Setup,,,,,,,,,,
Map Feature = MF ; Map Comment = MC These follow if they exist
Track File = TF These follow if they exist
Moving Map Parameters = MM? These follow if they exist
MM0,Yes
MMPNUM,4
MMPXY,1,0,0
MMPXY,2,4880,0
MMPXY,3,4903,3100
MMPXY,4,0,3096
MMPLL,1, -0.058877, 16.041872
MMPLL,2, 3.346402, 16.050910
MMPLL,3, 3.346075, 13.953301
MMPLL,4, -0.043915, 13.953517
MM1B,74.504848
LL Grid Setup
LLGRID,No,No Grid,Yes,255,16711680,0,No Labels,0,16777215,7,1,Yes,x
Other Grid Setup
GRGRID,No,No Grid,Yes,255,16711680,No Labels,0,16777215,8,1,Yes,No,No,x
MOP,Map Open Position,0,0
IWH,Map Image Width/Height,100,100
