OziExplorer Map Data File Version 2.2
AMGAET____________3012-H33WN.PNG
F:\mapas\africa\Africa Este (rusos) 1-500.000\AMGAET____________3012-H33WN.PNG
1 ,Map Code,
Pulkovo 1942 (1),, 0.0000, 0.0000,WGS 84
Reserved 1
Reserved 2
Magnetic Variation,,,E
Map Projection,Latitude/Longitude,PolyCal,Yes,AutoCalOnly,No,BSBUseWPX,No
Point01,xy, 98, 58,in, deg, 30, 0.0000,N, 12, 0.0000,E, grid, , , ,
Point02,xy, 2033, 76,in, deg, 30, 0.0000,N, 13, 30.0000,E, grid, , , ,
Point03,xy, 3971, 66,in, deg, 30, 0.0000,N, 15, 0.0000,E, grid, , , ,
Point04,xy, 79, 1542,in, deg, 29, 0.0000,N, 12, 0.0000,E, grid, , , ,
Point05,xy, 2034, 1559,in, deg, 29, 0.0000,N, 13, 30.0000,E, grid, , , ,
Point06,xy, 3990, 1548,in, deg, 29, 0.0000,N, 15, 0.0000,E, grid, , , ,
Point07,xy, 62, 3025,in, deg, 28, 0.0000,N, 12, 0.0000,E, grid, , , ,
Point08,xy, 2035, 3041,in, deg, 28, 0.0000,N, 13, 30.0000,E, grid, , , ,
Point09,xy, 4008, 3030,in, deg, 28, 0.0000,N, 15, 0.0000,E, grid, , , ,
Point10,xy, , ,in, deg, , ,, , ,, grid, , , ,
Point11,xy, , ,in, deg, , ,, , ,, grid, , , ,
Point12,xy, , ,in, deg, , ,, , ,, grid, , , ,
Point13,xy, , ,in, deg, , ,, , ,, grid, , , ,
Point14,xy, , ,in, deg, , ,, , ,, grid, , , ,
Point15,xy, , ,in, deg, , ,, , ,, grid, , , ,
Point16,xy, , ,in, deg, , ,, , ,, grid, , , ,
Point17,xy, , ,in, deg, , ,, , ,, grid, , , ,
Point18,xy, , ,in, deg, , ,, , ,, grid, , , ,
Point19,xy, , ,in, deg, , ,, , ,, grid, , , ,
Point20,xy, , ,in, deg, , ,, , ,, grid, , , ,
Point21,xy, , ,in, deg, , ,, , ,, grid, , , ,
Point22,xy, , ,in, deg, , ,, , ,, grid, , , ,
Point23,xy, , ,in, deg, , ,, , ,, grid, , , ,
Point24,xy, , ,in, deg, , ,, , ,, grid, , , ,
Point25,xy, , ,in, deg, , ,, , ,, grid, , , ,
Point26,xy, , ,in, deg, , ,, , ,, grid, , , ,
Point27,xy, , ,in, deg, , ,, , ,, grid, , , ,
Point28,xy, , ,in, deg, , ,, , ,, grid, , , ,
Point29,xy, , ,in, deg, , ,, , ,, grid, , , ,
Point30,xy, , ,in, deg, , ,, , ,, grid, , , ,
Projection Setup,,,,,,,,,,
Map Feature = MF ; Map Comment = MC These follow if they exist
Track File = TF These follow if they exist
Moving Map Parameters = MM? These follow if they exist
MM0,Yes
MMPNUM,4
MMPXY,1,0,0
MMPXY,2,4465,0
MMPXY,3,4514,3096
MMPXY,4,0,3097
MMPLL,1, 11.923894, 30.038070
MMPLL,2, 15.383035, 30.039804
MMPLL,3, 15.383097, 27.950342
MMPLL,4, 11.953531, 27.950786
MM1B,74.701081
LL Grid Setup
LLGRID,No,No Grid,Yes,255,16711680,0,No Labels,0,16777215,7,1,Yes,x
Other Grid Setup
GRGRID,No,No Grid,Yes,255,16711680,No Labels,0,16777215,8,1,Yes,No,No,x
MOP,Map Open Position,0,0
IWH,Map Image Width/Height,2500,1250
