OziExplorer Map Data File Version 2.2
AM ZOER___________1621-D34BN.PNG
F:\mapas\africa\Africa Este (rusos) 1-500.000\AM ZOER___________1621-D34BN.PNG
1 ,Map Code,
Pulkovo 1942 (1),, 0.0000, 0.0000,WGS 84
Reserved 1
Reserved 2
Magnetic Variation,,,E
Map Projection,Latitude/Longitude,PolyCal,Yes,AutoCalOnly,No,BSBUseWPX,No
Point01,xy, 78, 57,in, deg, 16, 0.0000,N, 21, 0.0000,E, grid, , , ,
Point02,xy, 2229, 73,in, deg, 16, 0.0000,N, 22, 30.0000,E, grid, , , ,
Point03,xy, 4381, 74,in, deg, 16, 0.0000,N, 24, 0.0000,E, grid, , , ,
Point04,xy, 66, 1538,in, deg, 15, 0.0000,N, 21, 0.0000,E, grid, , , ,
Point05,xy, 2227, 1553,in, deg, 15, 0.0000,N, 22, 30.0000,E, grid, , , ,
Point06,xy, 4388, 1553,in, deg, 15, 0.0000,N, 24, 0.0000,E, grid, , , ,
Point07,xy, 56, 3016,in, deg, 14, 0.0000,N, 21, 0.0000,E, grid, , , ,
Point08,xy, 2226, 3032,in, deg, 14, 0.0000,N, 22, 30.0000,E, grid, , , ,
Point09,xy, 4395, 3033,in, deg, 14, 0.0000,N, 24, 0.0000,E, grid, , , ,
Point10,xy, , ,in, deg, , ,, , ,, grid, , , ,
Point11,xy, , ,in, deg, , ,, , ,, grid, , , ,
Point12,xy, , ,in, deg, , ,, , ,, grid, , , ,
Point13,xy, , ,in, deg, , ,, , ,, grid, , , ,
Point14,xy, , ,in, deg, , ,, , ,, grid, , , ,
Point15,xy, , ,in, deg, , ,, , ,, grid, , , ,
Point16,xy, , ,in, deg, , ,, , ,, grid, , , ,
Point17,xy, , ,in, deg, , ,, , ,, grid, , , ,
Point18,xy, , ,in, deg, , ,, , ,, grid, , , ,
Point19,xy, , ,in, deg, , ,, , ,, grid, , , ,
Point20,xy, , ,in, deg, , ,, , ,, grid, , , ,
Point21,xy, , ,in, deg, , ,, , ,, grid, , , ,
Point22,xy, , ,in, deg, , ,, , ,, grid, , , ,
Point23,xy, , ,in, deg, , ,, , ,, grid, , , ,
Point24,xy, , ,in, deg, , ,, , ,, grid, , , ,
Point25,xy, , ,in, deg, , ,, , ,, grid, , , ,
Point26,xy, , ,in, deg, , ,, , ,, grid, , , ,
Point27,xy, , ,in, deg, , ,, , ,, grid, , , ,
Point28,xy, , ,in, deg, , ,, , ,, grid, , , ,
Point29,xy, , ,in, deg, , ,, , ,, grid, , , ,
Point30,xy, , ,in, deg, , ,, , ,, grid, , , ,
Projection Setup,,,,,,,,,,
Map Feature = MF ; Map Comment = MC These follow if they exist
Track File = TF These follow if they exist
Moving Map Parameters = MM? These follow if they exist
MM0,Yes
MMPNUM,4
MMPXY,1,0,0
MMPXY,2,4876,0
MMPXY,3,4895,3107
MMPXY,4,0,3092
MMPLL,1, 20.945532, 16.038150
MMPLL,2, 24.345359, 16.048426
MMPLL,3, 24.345079, 13.948391
MMPLL,4, 20.961642, 13.948417
MM1B,74.498134
LL Grid Setup
LLGRID,No,No Grid,Yes,255,16711680,0,No Labels,0,16777215,7,1,Yes,x
Other Grid Setup
GRGRID,No,No Grid,Yes,255,16711680,No Labels,0,16777215,8,1,Yes,No,No,x
MOP,Map Open Position,0,0
IWH,Map Image Width/Height,2500,1250
