OziExplorer Map Data File Version 2.2
AKSHUSHT__________2015-E28BN.PNG
F:\mapas\africa\Africa Oeste (rusos) 1-500.000\AKSHUSHT__________2015-E28BN.PNG
1 ,Map Code,
Pulkovo 1942 (1),, 0.0000, 0.0000,WGS 84
Reserved 1
Reserved 2
Magnetic Variation,,,E
Map Projection,Latitude/Longitude,PolyCal,Yes,AutoCalOnly,No,BSBUseWPX,No
Point01,xy, 93, 65,in, deg, 20, 0.0000,N, 15, 0.0000,W, grid, , , ,
Point02,xy, 2200, 77,in, deg, 20, 0.0000,N, 13, 30.0000,W, grid, , , ,
Point03,xy, 4305, 70,in, deg, 20, 0.0000,N, 12, 0.0000,W, grid, , , ,
Point04,xy, 82, 1545,in, deg, 19, 0.0000,N, 15, 0.0000,W, grid, , , ,
Point05,xy, 2200, 1560,in, deg, 19, 0.0000,N, 13, 30.0000,W, grid, , , ,
Point06,xy, 4319, 1553,in, deg, 19, 0.0000,N, 12, 0.0000,W, grid, , , ,
Point07,xy, 70, 3027,in, deg, 18, 0.0000,N, 15, 0.0000,W, grid, , , ,
Point08,xy, 2201, 3041,in, deg, 18, 0.0000,N, 13, 30.0000,W, grid, , , ,
Point09,xy, 4333, 3035,in, deg, 18, 0.0000,N, 12, 0.0000,W, grid, , , ,
Point10,xy, , ,in, deg, , ,, , ,, grid, , , ,
Point11,xy, , ,in, deg, , ,, , ,, grid, , , ,
Point12,xy, , ,in, deg, , ,, , ,, grid, , , ,
Point13,xy, , ,in, deg, , ,, , ,, grid, , , ,
Point14,xy, , ,in, deg, , ,, , ,, grid, , , ,
Point15,xy, , ,in, deg, , ,, , ,, grid, , , ,
Point16,xy, , ,in, deg, , ,, , ,, grid, , , ,
Point17,xy, , ,in, deg, , ,, , ,, grid, , , ,
Point18,xy, , ,in, deg, , ,, , ,, grid, , , ,
Point19,xy, , ,in, deg, , ,, , ,, grid, , , ,
Point20,xy, , ,in, deg, , ,, , ,, grid, , , ,
Point21,xy, , ,in, deg, , ,, , ,, grid, , , ,
Point22,xy, , ,in, deg, , ,, , ,, grid, , , ,
Point23,xy, , ,in, deg, , ,, , ,, grid, , , ,
Point24,xy, , ,in, deg, , ,, , ,, grid, , , ,
Point25,xy, , ,in, deg, , ,, , ,, grid, , , ,
Point26,xy, , ,in, deg, , ,, , ,, grid, , , ,
Point27,xy, , ,in, deg, , ,, , ,, grid, , , ,
Point28,xy, , ,in, deg, , ,, , ,, grid, , , ,
Point29,xy, , ,in, deg, , ,, , ,, grid, , , ,
Point30,xy, , ,in, deg, , ,, , ,, grid, , , ,
Projection Setup,,,,,,,,,,
Map Feature = MF ; Map Comment = MC These follow if they exist
Track File = TF These follow if they exist
Moving Map Parameters = MM? These follow if they exist
MM0,Yes
MMPNUM,4
MMPXY,1,0,0
MMPXY,2,4807,0
MMPXY,3,4842,3110
MMPXY,4,0,3105
MMPLL,1, -15.066915, 20.042850
MMPLL,2, -11.642088, 20.043998
MMPLL,3, -11.642243, 17.946560
MMPLL,4, -15.048747, 17.946570
MM1B,74.430593
LL Grid Setup
LLGRID,No,No Grid,Yes,255,16711680,0,No Labels,0,16777215,7,1,Yes,x
Other Grid Setup
GRGRID,No,No Grid,Yes,255,16711680,No Labels,0,16777215,8,1,Yes,No,No,x
MOP,Map Open Position,0,0
IWH,Map Image Width/Height,100,100
