OziExplorer Map Data File Version 2.2
AJDABIYA__________3218-H34AN.PNG
F:\mapas\africa\Africa Este (rusos) 1-500.000\AJDABIYA__________3218-H34AN.PNG
1 ,Map Code,
Pulkovo 1942 (1),, 0.0000, 0.0000,WGS 84
Reserved 1
Reserved 2
Magnetic Variation,,,E
Map Projection,Latitude/Longitude,PolyCal,Yes,AutoCalOnly,No,BSBUseWPX,No
Point01,xy, 92, 60,in, deg, 32, 0.0000,N, 18, 0.0000,E, grid, , , ,
Point02,xy, 1989, 76,in, deg, 32, 0.0000,N, 19, 30.0000,E, grid, , , ,
Point03,xy, 3884, 66,in, deg, 32, 0.0000,N, 21, 0.0000,E, grid, , , ,
Point04,xy, 75, 1544,in, deg, 31, 0.0000,N, 18, 0.0000,E, grid, , , ,
Point05,xy, 1989, 1562,in, deg, 31, 0.0000,N, 19, 30.0000,E, grid, , , ,
Point06,xy, 3902, 1550,in, deg, 31, 0.0000,N, 21, 0.0000,E, grid, , , ,
Point07,xy, 57, 3031,in, deg, 30, 0.0000,N, 18, 0.0000,E, grid, , , ,
Point08,xy, 1989, 3046,in, deg, 30, 0.0000,N, 19, 30.0000,E, grid, , , ,
Point09,xy, 3921, 3037,in, deg, 30, 0.0000,N, 21, 0.0000,E, grid, , , ,
Point10,xy, , ,in, deg, , ,, , ,, grid, , , ,
Point11,xy, , ,in, deg, , ,, , ,, grid, , , ,
Point12,xy, , ,in, deg, , ,, , ,, grid, , , ,
Point13,xy, , ,in, deg, , ,, , ,, grid, , , ,
Point14,xy, , ,in, deg, , ,, , ,, grid, , , ,
Point15,xy, , ,in, deg, , ,, , ,, grid, , , ,
Point16,xy, , ,in, deg, , ,, , ,, grid, , , ,
Point17,xy, , ,in, deg, , ,, , ,, grid, , , ,
Point18,xy, , ,in, deg, , ,, , ,, grid, , , ,
Point19,xy, , ,in, deg, , ,, , ,, grid, , , ,
Point20,xy, , ,in, deg, , ,, , ,, grid, , , ,
Point21,xy, , ,in, deg, , ,, , ,, grid, , , ,
Point22,xy, , ,in, deg, , ,, , ,, grid, , , ,
Point23,xy, , ,in, deg, , ,, , ,, grid, , , ,
Point24,xy, , ,in, deg, , ,, , ,, grid, , , ,
Point25,xy, , ,in, deg, , ,, , ,, grid, , , ,
Point26,xy, , ,in, deg, , ,, , ,, grid, , , ,
Point27,xy, , ,in, deg, , ,, , ,, grid, , , ,
Point28,xy, , ,in, deg, , ,, , ,, grid, , , ,
Point29,xy, , ,in, deg, , ,, , ,, grid, , , ,
Point30,xy, , ,in, deg, , ,, , ,, grid, , , ,
Projection Setup,,,,,,,,,,
Map Feature = MF ; Map Comment = MC These follow if they exist
Track File = TF These follow if they exist
Moving Map Parameters = MM? These follow if they exist
MM0,Yes
MMPNUM,4
MMPXY,1,0,0
MMPXY,2,4370,0
MMPXY,3,4418,3099
MMPXY,4,0,3099
MMPLL,1, 17.926407, 32.039355
MMPLL,2, 21.385478, 32.039708
MMPLL,3, 21.385555, 29.953314
MMPLL,4, 17.956423, 29.953375
MM1B,74.651774
LL Grid Setup
LLGRID,No,No Grid,Yes,255,16711680,0,No Labels,0,16777215,7,1,Yes,x
Other Grid Setup
GRGRID,No,No Grid,Yes,255,16711680,No Labels,0,16777215,8,1,Yes,No,No,x
MOP,Map Open Position,0,0
IWH,Map Image Width/Height,2500,1250
