OziExplorer Map Data File Version 2.2
AIJ MELAGI________2415-F33BN.PNG
F:\mapas\africa\Africa Este (rusos) 1-500.000\AIJ MELAGI________2415-F33BN.PNG
1 ,Map Code,
Pulkovo 1942 (1),, 0.0000, 0.0000,WGS 84
Reserved 1
Reserved 2
Magnetic Variation,,,E
Map Projection,Latitude/Longitude,PolyCal,Yes,AutoCalOnly,No,BSBUseWPX,No
Point01,xy, 88, 58,in, deg, 24, 0.0000,N, 15, 0.0000,E, grid, , , ,
Point02,xy, 2131, 73,in, deg, 24, 0.0000,N, 16, 30.0000,E, grid, , , ,
Point03,xy, 4174, 67,in, deg, 24, 0.0000,N, 18, 0.0000,E, grid, , , ,
Point04,xy, 72, 1539,in, deg, 23, 0.0000,N, 15, 0.0000,E, grid, , , ,
Point05,xy, 2131, 1555,in, deg, 23, 0.0000,N, 16, 30.0000,E, grid, , , ,
Point06,xy, 4188, 1550,in, deg, 23, 0.0000,N, 18, 0.0000,E, grid, , , ,
Point07,xy, 57, 3020,in, deg, 22, 0.0000,N, 15, 0.0000,E, grid, , , ,
Point08,xy, 2129, 3036,in, deg, 22, 0.0000,N, 16, 30.0000,E, grid, , , ,
Point09,xy, 4203, 3034,in, deg, 22, 0.0000,N, 18, 0.0000,E, grid, , , ,
Point10,xy, , ,in, deg, , ,, , ,, grid, , , ,
Point11,xy, , ,in, deg, , ,, , ,, grid, , , ,
Point12,xy, , ,in, deg, , ,, , ,, grid, , , ,
Point13,xy, , ,in, deg, , ,, , ,, grid, , , ,
Point14,xy, , ,in, deg, , ,, , ,, grid, , , ,
Point15,xy, , ,in, deg, , ,, , ,, grid, , , ,
Point16,xy, , ,in, deg, , ,, , ,, grid, , , ,
Point17,xy, , ,in, deg, , ,, , ,, grid, , , ,
Point18,xy, , ,in, deg, , ,, , ,, grid, , , ,
Point19,xy, , ,in, deg, , ,, , ,, grid, , , ,
Point20,xy, , ,in, deg, , ,, , ,, grid, , , ,
Point21,xy, , ,in, deg, , ,, , ,, grid, , , ,
Point22,xy, , ,in, deg, , ,, , ,, grid, , , ,
Point23,xy, , ,in, deg, , ,, , ,, grid, , , ,
Point24,xy, , ,in, deg, , ,, , ,, grid, , , ,
Point25,xy, , ,in, deg, , ,, , ,, grid, , , ,
Point26,xy, , ,in, deg, , ,, , ,, grid, , , ,
Point27,xy, , ,in, deg, , ,, , ,, grid, , , ,
Point28,xy, , ,in, deg, , ,, , ,, grid, , , ,
Point29,xy, , ,in, deg, , ,, , ,, grid, , , ,
Point30,xy, , ,in, deg, , ,, , ,, grid, , , ,
Projection Setup,,,,,,,,,,
Map Feature = MF ; Map Comment = MC These follow if they exist
Track File = TF These follow if they exist
Moving Map Parameters = MM? These follow if they exist
MM0,Yes
MMPNUM,4
MMPXY,1,0,0
MMPXY,2,4645,1
MMPXY,3,4682,3111
MMPXY,4,0,3099
MMPLL,1, 14.934927, 24.038612
MMPLL,2, 18.346361, 24.041759
MMPLL,3, 18.346138, 21.945422
MMPLL,4, 14.959625, 21.945984
MM1B,74.609751
LL Grid Setup
LLGRID,No,No Grid,Yes,255,16711680,0,No Labels,0,16777215,7,1,Yes,x
Other Grid Setup
GRGRID,No,No Grid,Yes,255,16711680,No Labels,0,16777215,8,1,Yes,No,No,x
MOP,Map Open Position,0,0
IWH,Map Image Width/Height,2500,1250
