OziExplorer Map Data File Version 2.2
AGADEZ____________1806-E32WN.PNG
F:\mapas\africa\Africa Oeste (rusos) 1-500.000\AGADEZ____________1806-E32WN.PNG
1 ,Map Code,
Pulkovo 1942 (1),, 0.0000, 0.0000,WGS 84
Reserved 1
Reserved 2
Magnetic Variation,,,E
Map Projection,Latitude/Longitude,PolyCal,Yes,AutoCalOnly,No,BSBUseWPX,No
Point01,xy, 74, 61,in, deg, 18, 0.0000,N, 6, 0.0000,E, grid, , , ,
Point02,xy, 2208, 75,in, deg, 18, 0.0000,N, 7, 30.0000,E, grid, , , ,
Point03,xy, 4342, 72,in, deg, 18, 0.0000,N, 9, 0.0000,E, grid, , , ,
Point04,xy, 65, 1543,in, deg, 17, 0.0000,N, 6, 0.0000,E, grid, , , ,
Point05,xy, 2209, 1556,in, deg, 17, 0.0000,N, 7, 30.0000,E, grid, , , ,
Point06,xy, 4353, 1552,in, deg, 17, 0.0000,N, 9, 0.0000,E, grid, , , ,
Point07,xy, 56, 3027,in, deg, 16, 0.0000,N, 6, 0.0000,E, grid, , , ,
Point08,xy, 2211, 3038,in, deg, 16, 0.0000,N, 7, 30.0000,E, grid, , , ,
Point09,xy, 4365, 3032,in, deg, 16, 0.0000,N, 9, 0.0000,E, grid, , , ,
Point10,xy, , ,in, deg, , ,, , ,, grid, , , ,
Point11,xy, , ,in, deg, , ,, , ,, grid, , , ,
Point12,xy, , ,in, deg, , ,, , ,, grid, , , ,
Point13,xy, , ,in, deg, , ,, , ,, grid, , , ,
Point14,xy, , ,in, deg, , ,, , ,, grid, , , ,
Point15,xy, , ,in, deg, , ,, , ,, grid, , , ,
Point16,xy, , ,in, deg, , ,, , ,, grid, , , ,
Point17,xy, , ,in, deg, , ,, , ,, grid, , , ,
Point18,xy, , ,in, deg, , ,, , ,, grid, , , ,
Point19,xy, , ,in, deg, , ,, , ,, grid, , , ,
Point20,xy, , ,in, deg, , ,, , ,, grid, , , ,
Point21,xy, , ,in, deg, , ,, , ,, grid, , , ,
Point22,xy, , ,in, deg, , ,, , ,, grid, , , ,
Point23,xy, , ,in, deg, , ,, , ,, grid, , , ,
Point24,xy, , ,in, deg, , ,, , ,, grid, , , ,
Point25,xy, , ,in, deg, , ,, , ,, grid, , , ,
Point26,xy, , ,in, deg, , ,, , ,, grid, , , ,
Point27,xy, , ,in, deg, , ,, , ,, grid, , , ,
Point28,xy, , ,in, deg, , ,, , ,, grid, , , ,
Point29,xy, , ,in, deg, , ,, , ,, grid, , , ,
Point30,xy, , ,in, deg, , ,, , ,, grid, , , ,
Projection Setup,,,,,,,,,,
Map Feature = MF ; Map Comment = MC These follow if they exist
Track File = TF These follow if they exist
Moving Map Parameters = MM? These follow if they exist
MM0,Yes
MMPNUM,4
MMPXY,1,0,0
MMPXY,2,4844,0
MMPXY,3,4873,3095
MMPXY,4,0,3093
MMPLL,1, 5.947688, 18.040507
MMPLL,2, 9.353469, 18.046681
MMPLL,3, 9.353274, 15.954966
MMPLL,4, 5.961147, 15.955068
MM1B,74.319494
LL Grid Setup
LLGRID,No,No Grid,Yes,255,16711680,0,No Labels,0,16777215,7,1,Yes,x
Other Grid Setup
GRGRID,No,No Grid,Yes,255,16711680,No Labels,0,16777215,8,1,Yes,No,No,x
MOP,Map Open Position,0,0
IWH,Map Image Width/Height,100,100
