OziExplorer Map Data File Version 2.2
ADRAR BOUS________2209-F32GN.PNG
F:\mapas\africa\Africa Oeste (rusos) 1-500.000\ADRAR BOUS________2209-F32GN.PNG
1 ,Map Code,
Pulkovo 1942 (1),, 0.0000, 0.0000,WGS 84
Reserved 1
Reserved 2
Magnetic Variation,,,E
Map Projection,Latitude/Longitude,PolyCal,Yes,AutoCalOnly,No,BSBUseWPX,No
Point01,xy, 82, 59,in, deg, 22, 0.0000,N, 9, 0.0000,E, grid, , , ,
Point02,xy, 2156, 75,in, deg, 22, 0.0000,N, 10, 30.0000,E, grid, , , ,
Point03,xy, 4232, 70,in, deg, 22, 0.0000,N, 12, 0.0000,E, grid, , , ,
Point04,xy, 69, 1540,in, deg, 21, 0.0000,N, 9, 0.0000,E, grid, , , ,
Point05,xy, 2155, 1557,in, deg, 21, 0.0000,N, 10, 30.0000,E, grid, , , ,
Point06,xy, 4244, 1552,in, deg, 21, 0.0000,N, 12, 0.0000,E, grid, , , ,
Point07,xy, 54, 3021,in, deg, 20, 0.0000,N, 9, 0.0000,E, grid, , , ,
Point08,xy, 2154, 3037,in, deg, 20, 0.0000,N, 10, 30.0000,E, grid, , , ,
Point09,xy, 4255, 3036,in, deg, 20, 0.0000,N, 12, 0.0000,E, grid, , , ,
Point10,xy, , ,in, deg, , ,, , ,, grid, , , ,
Point11,xy, , ,in, deg, , ,, , ,, grid, , , ,
Point12,xy, , ,in, deg, , ,, , ,, grid, , , ,
Point13,xy, , ,in, deg, , ,, , ,, grid, , , ,
Point14,xy, , ,in, deg, , ,, , ,, grid, , , ,
Point15,xy, , ,in, deg, , ,, , ,, grid, , , ,
Point16,xy, , ,in, deg, , ,, , ,, grid, , , ,
Point17,xy, , ,in, deg, , ,, , ,, grid, , , ,
Point18,xy, , ,in, deg, , ,, , ,, grid, , , ,
Point19,xy, , ,in, deg, , ,, , ,, grid, , , ,
Point20,xy, , ,in, deg, , ,, , ,, grid, , , ,
Point21,xy, , ,in, deg, , ,, , ,, grid, , , ,
Point22,xy, , ,in, deg, , ,, , ,, grid, , , ,
Point23,xy, , ,in, deg, , ,, , ,, grid, , , ,
Point24,xy, , ,in, deg, , ,, , ,, grid, , , ,
Point25,xy, , ,in, deg, , ,, , ,, grid, , , ,
Point26,xy, , ,in, deg, , ,, , ,, grid, , , ,
Point27,xy, , ,in, deg, , ,, , ,, grid, , , ,
Point28,xy, , ,in, deg, , ,, , ,, grid, , , ,
Point29,xy, , ,in, deg, , ,, , ,, grid, , , ,
Point30,xy, , ,in, deg, , ,, , ,, grid, , , ,
Projection Setup,,,,,,,,,,
Map Feature = MF ; Map Comment = MC These follow if they exist
Track File = TF These follow if they exist
Moving Map Parameters = MM? These follow if they exist
MM0,Yes
MMPNUM,4
MMPXY,1,0,0
MMPXY,2,4729,0
MMPXY,3,4760,3106
MMPXY,4,0,3093
MMPLL,1, 8.940220, 22.039381
MMPLL,2, 12.359467, 22.044447
MMPLL,3, 12.359713, 19.949910
MMPLL,4, 8.961759, 19.950672
MM1B,74.617910
LL Grid Setup
LLGRID,No,No Grid,Yes,255,16711680,0,No Labels,0,16777215,7,1,Yes,x
Other Grid Setup
GRGRID,No,No Grid,Yes,255,16711680,No Labels,0,16777215,8,1,Yes,No,No,x
MOP,Map Open Position,0,0
IWH,Map Image Width/Height,100,100
