OziExplorer Map Data File Version 2.2
ADDIS ABEBA_______1036-C37WN.PNG
F:\mapas\africa\Africa Este (rusos) 1-500.000\ADDIS ABEBA_______1036-C37WN.PNG
1 ,Map Code,
Pulkovo 1942 (1),, 0.0000, 0.0000,WGS 84
Reserved 1
Reserved 2
Magnetic Variation,,,E
Map Projection,Latitude/Longitude,PolyCal,Yes,AutoCalOnly,No,BSBUseWPX,No
Point01,xy, 83, 64,in, deg, 10, 0.0000,N, 36, 0.0000,E, grid, , , ,
Point02,xy, 2293, 73,in, deg, 10, 0.0000,N, 37, 30.0000,E, grid, , , ,
Point03,xy, 4498, 73,in, deg, 10, 0.0000,N, 39, 0.0000,E, grid, , , ,
Point04,xy, 73, 1545,in, deg, 9, 0.0000,N, 36, 0.0000,E, grid, , , ,
Point05,xy, 2287, 1553,in, deg, 9, 0.0000,N, 37, 30.0000,E, grid, , , ,
Point06,xy, 4500, 1551,in, deg, 9, 0.0000,N, 39, 0.0000,E, grid, , , ,
Point07,xy, 60, 3023,in, deg, 8, 0.0000,N, 36, 0.0000,E, grid, , , ,
Point08,xy, 2282, 3031,in, deg, 8, 0.0000,N, 37, 30.0000,E, grid, , , ,
Point09,xy, 4502, 3029,in, deg, 8, 0.0000,N, 39, 0.0000,E, grid, , , ,
Point10,xy, , ,in, deg, , ,, , ,, grid, , , ,
Point11,xy, , ,in, deg, , ,, , ,, grid, , , ,
Point12,xy, , ,in, deg, , ,, , ,, grid, , , ,
Point13,xy, , ,in, deg, , ,, , ,, grid, , , ,
Point14,xy, , ,in, deg, , ,, , ,, grid, , , ,
Point15,xy, , ,in, deg, , ,, , ,, grid, , , ,
Point16,xy, , ,in, deg, , ,, , ,, grid, , , ,
Point17,xy, , ,in, deg, , ,, , ,, grid, , , ,
Point18,xy, , ,in, deg, , ,, , ,, grid, , , ,
Point19,xy, , ,in, deg, , ,, , ,, grid, , , ,
Point20,xy, , ,in, deg, , ,, , ,, grid, , , ,
Point21,xy, , ,in, deg, , ,, , ,, grid, , , ,
Point22,xy, , ,in, deg, , ,, , ,, grid, , , ,
Point23,xy, , ,in, deg, , ,, , ,, grid, , , ,
Point24,xy, , ,in, deg, , ,, , ,, grid, , , ,
Point25,xy, , ,in, deg, , ,, , ,, grid, , , ,
Point26,xy, , ,in, deg, , ,, , ,, grid, , , ,
Point27,xy, , ,in, deg, , ,, , ,, grid, , , ,
Point28,xy, , ,in, deg, , ,, , ,, grid, , , ,
Point29,xy, , ,in, deg, , ,, , ,, grid, , , ,
Point30,xy, , ,in, deg, , ,, , ,, grid, , , ,
Projection Setup,,,,,,,,,,
Map Feature = MF ; Map Comment = MC These follow if they exist
Track File = TF These follow if they exist
Moving Map Parameters = MM? These follow if they exist
MM0,Yes
MMPNUM,4
MMPXY,1,0,0
MMPXY,2,4982,0
MMPXY,3,4989,3090
MMPXY,4,0,3085
MMPLL,1, 35.942901, 10.042936
MMPLL,2, 39.329391, 10.048131
MMPLL,3, 39.329553, 7.957359
MMPLL,4, 35.959786, 7.958028
MM1B,74.291435
LL Grid Setup
LLGRID,No,No Grid,Yes,255,16711680,0,No Labels,0,16777215,7,1,Yes,x
Other Grid Setup
GRGRID,No,No Grid,Yes,255,16711680,No Labels,0,16777215,8,1,Yes,No,No,x
MOP,Map Open Position,0,0
IWH,Map Image Width/Height,2500,1250
