OziExplorer Map Data File Version 2.2
ABU TABARA________1827-E35GN.PNG
F:\mapas\africa\Africa Este (rusos) 1-500.000\ABU TABARA________1827-E35GN.PNG
1 ,Map Code,
Pulkovo 1942 (1),, 0.0000, 0.0000,WGS 84
Reserved 1
Reserved 2
Magnetic Variation,,,E
Map Projection,Latitude/Longitude,PolyCal,Yes,AutoCalOnly,No,BSBUseWPX,No
Point01,xy, 82, 59,in, deg, 18, 0.0000,N, 27, 0.0000,E, grid, , , ,
Point02,xy, 2214, 72,in, deg, 18, 0.0000,N, 28, 30.0000,E, grid, , , ,
Point03,xy, 4347, 67,in, deg, 18, 0.0000,N, 30, 0.0000,E, grid, , , ,
Point04,xy, 70, 1539,in, deg, 17, 0.0000,N, 27, 0.0000,E, grid, , , ,
Point05,xy, 2213, 1552,in, deg, 17, 0.0000,N, 28, 30.0000,E, grid, , , ,
Point06,xy, 4358, 1549,in, deg, 17, 0.0000,N, 30, 0.0000,E, grid, , , ,
Point07,xy, 58, 3020,in, deg, 16, 0.0000,N, 27, 0.0000,E, grid, , , ,
Point08,xy, 2214, 3033,in, deg, 16, 0.0000,N, 28, 30.0000,E, grid, , , ,
Point09,xy, 4370, 3031,in, deg, 16, 0.0000,N, 30, 0.0000,E, grid, , , ,
Point10,xy, , ,in, deg, , ,, , ,, grid, , , ,
Point11,xy, , ,in, deg, , ,, , ,, grid, , , ,
Point12,xy, , ,in, deg, , ,, , ,, grid, , , ,
Point13,xy, , ,in, deg, , ,, , ,, grid, , , ,
Point14,xy, , ,in, deg, , ,, , ,, grid, , , ,
Point15,xy, , ,in, deg, , ,, , ,, grid, , , ,
Point16,xy, , ,in, deg, , ,, , ,, grid, , , ,
Point17,xy, , ,in, deg, , ,, , ,, grid, , , ,
Point18,xy, , ,in, deg, , ,, , ,, grid, , , ,
Point19,xy, , ,in, deg, , ,, , ,, grid, , , ,
Point20,xy, , ,in, deg, , ,, , ,, grid, , , ,
Point21,xy, , ,in, deg, , ,, , ,, grid, , , ,
Point22,xy, , ,in, deg, , ,, , ,, grid, , , ,
Point23,xy, , ,in, deg, , ,, , ,, grid, , , ,
Point24,xy, , ,in, deg, , ,, , ,, grid, , , ,
Point25,xy, , ,in, deg, , ,, , ,, grid, , , ,
Point26,xy, , ,in, deg, , ,, , ,, grid, , , ,
Point27,xy, , ,in, deg, , ,, , ,, grid, , , ,
Point28,xy, , ,in, deg, , ,, , ,, grid, , , ,
Point29,xy, , ,in, deg, , ,, , ,, grid, , , ,
Point30,xy, , ,in, deg, , ,, , ,, grid, , , ,
Projection Setup,,,,,,,,,,
Map Feature = MF ; Map Comment = MC These follow if they exist
Track File = TF These follow if they exist
Moving Map Parameters = MM? These follow if they exist
MM0,Yes
MMPNUM,4
MMPXY,1,0,0
MMPXY,2,4858,0
MMPXY,3,4888,3102
MMPXY,4,0,3093
MMPLL,1, 26.941861, 18.039466
MMPLL,2, 30.359727, 18.043175
MMPLL,3, 30.359622, 15.949963
MMPLL,4, 26.959842, 15.950100
MM1B,74.418146
LL Grid Setup
LLGRID,No,No Grid,Yes,255,16711680,0,No Labels,0,16777215,7,1,Yes,x
Other Grid Setup
GRGRID,No,No Grid,Yes,255,16711680,No Labels,0,16777215,8,1,Yes,No,No,x
MOP,Map Open Position,0,0
IWH,Map Image Width/Height,2500,1250
